BEGIN:VCALENDAR
METHOD:PUBLISH
CALSCALE:GREGORIAN
PRODID:Elbphilharmonie
VERSION:2.0
BEGIN:VTIMEZONE
TZID:Europe/Berlin
BEGIN:DAYLIGHT
TZOFFSETFROM:+0100
TZOFFSETTO:+0200
TZNAME:CEST
DTSTART:20200329T010000
RRULE:FREQ=YEARLY;INTERVAL=1;BYDAY=-1SU;BYMONTH=3
END:DAYLIGHT
BEGIN:STANDARD
TZOFFSETFROM:+0200
TZOFFSETTO:+0100
TZNAME:CET
DTSTART:20201025T010000
RRULE:FREQ=YEARLY;INTERVAL=1;BYDAY=-1SU;BYMONTH=10
END:STANDARD
END:VTIMEZONE
BEGIN:VEVENT
DTSTAMP:20260423T230100Z
DTSTART:20270131T133000Z
DTEND:20270131T141500Z
LOCATION:Laeiszhalle Studio E
SUMMARY:Hasi-Konzert
DESCRIPTION:Besetzung\nJuri Tetzlaff: Moderation\nMelanie Weirather: Schau
 spiel\nMitglieder der Symphoniker Hamburg\n
UID:event28093@Elbphilharmonie.de
URL:https://www.elbphilharmonie.de/de/programm/hasi-konzert/28093
END:VEVENT
END:VCALENDAR
