BEGIN:VCALENDAR
METHOD:PUBLISH
CALSCALE:GREGORIAN
PRODID:Elbphilharmonie
VERSION:2.0
BEGIN:VTIMEZONE
TZID:Europe/Berlin
BEGIN:DAYLIGHT
TZOFFSETFROM:+0100
TZOFFSETTO:+0200
TZNAME:CEST
DTSTART:20200329T010000
RRULE:FREQ=YEARLY;INTERVAL=1;BYDAY=-1SU;BYMONTH=3
END:DAYLIGHT
BEGIN:STANDARD
TZOFFSETFROM:+0200
TZOFFSETTO:+0100
TZNAME:CET
DTSTART:20201025T010000
RRULE:FREQ=YEARLY;INTERVAL=1;BYDAY=-1SU;BYMONTH=10
END:STANDARD
END:VTIMEZONE
BEGIN:VEVENT
DTSTAMP:20260423T213900Z
DTSTART:20270114T190000Z
DTEND:20270114T210000Z
LOCATION:Elbphilharmonie Großer Saal
SUMMARY:Hans Werner Henze: Gogo no Eiko
DESCRIPTION:Besetzung\nMDR-Sinfonieorchester\nMasako Hayashi: Fusako Kurod
 a\nYoshiaki Shindo: Noboru\nTakashi Tomokiyo: »Nummer Eins«\, der Anfüh
 rer\nTeruhiko Komori: Ryuji Tsukazaki\nDirigent: Alejo Pérez\n\nProgramm\
 nHans Werner Henze\nGogo no Eiko (Das verratene Meer) / Musikdrama in zwei
  Akten von Hans-Ulrich Treichel nach dem Roman »Gogo no eikō« (Der Seem
 ann\, der die See verriet) von Yukio Mishima (Text: Hans-Ulrich Treichel\,
  Yukio Mishima)\nKonzertante Aufführung in deutscher Sprache
UID:event28418@Elbphilharmonie.de
URL:https://www.elbphilharmonie.de/de/programm/hans-werner-henze-gogo-no-e
 iko/28418
END:VEVENT
END:VCALENDAR
