BEGIN:VCALENDAR
METHOD:PUBLISH
CALSCALE:GREGORIAN
PRODID:Elbphilharmonie
VERSION:2.0
BEGIN:VTIMEZONE
TZID:Europe/Berlin
BEGIN:DAYLIGHT
TZOFFSETFROM:+0100
TZOFFSETTO:+0200
TZNAME:CEST
DTSTART:20200329T010000
RRULE:FREQ=YEARLY;INTERVAL=1;BYDAY=-1SU;BYMONTH=3
END:DAYLIGHT
BEGIN:STANDARD
TZOFFSETFROM:+0200
TZOFFSETTO:+0100
TZNAME:CET
DTSTART:20201025T010000
RRULE:FREQ=YEARLY;INTERVAL=1;BYDAY=-1SU;BYMONTH=10
END:STANDARD
END:VTIMEZONE
BEGIN:VEVENT
DTSTAMP:20260423T213900Z
DTSTART:20270423T090000Z
DTEND:20270423T100000Z
LOCATION:Bürgerhaus Bornheide
SUMMARY:Funkelkonzert XS / Elfi-Babykonzert
DESCRIPTION:Besetzung\nEnsemble Resonanz\nUlla Kulenkamp: Ausstattung\nGre
 gor Dierck\, Charlotte Beinhauer: Konzept\n\nProgramm\nKonzerte für Schwa
 ngere und Eltern mit Babys bis 1 Jahr\n»Von Tag zu Nacht«
UID:event28363@Elbphilharmonie.de
URL:https://www.elbphilharmonie.de/de/programm/funkelkonzert-xs-elfi-babyk
 onzert/28363
END:VEVENT
END:VCALENDAR
