BEGIN:VCALENDAR
METHOD:PUBLISH
CALSCALE:GREGORIAN
PRODID:Elbphilharmonie
VERSION:2.0
BEGIN:VTIMEZONE
TZID:Europe/Berlin
BEGIN:DAYLIGHT
TZOFFSETFROM:+0100
TZOFFSETTO:+0200
TZNAME:CEST
DTSTART:20200329T010000
RRULE:FREQ=YEARLY;INTERVAL=1;BYDAY=-1SU;BYMONTH=3
END:DAYLIGHT
BEGIN:STANDARD
TZOFFSETFROM:+0200
TZOFFSETTO:+0100
TZNAME:CET
DTSTART:20201025T010000
RRULE:FREQ=YEARLY;INTERVAL=1;BYDAY=-1SU;BYMONTH=10
END:STANDARD
END:VTIMEZONE
BEGIN:VEVENT
DTSTAMP:20260423T213900Z
DTSTART:20261011T130000Z
DTEND:20261011T134500Z
LOCATION:Elbphilharmonie Kaistudio 1
SUMMARY:Funkelkonzert S / Obotaqua
DESCRIPTION:Besetzung\nSyriab Duo\nFriedrike Kayser: Oboe\, Englischhorn\n
 Ibrahim Bajo: Kanun\nJin Lee: Tanz\nCeren Oran: Konzept\, Regie\, Choreogr
 afie\nSigrid Wurzinger: Ausstattung\, Kostüm\nFranziska Stolz: Musikdrama
 turgie\, Konzept\n\nProgramm\nMusik- und Tanztheater\, das scheinbar ferne
  Klangwelten fantasievoll zusammenbringt
UID:event28296@Elbphilharmonie.de
URL:https://www.elbphilharmonie.de/de/programm/funkelkonzert-s-obotaqua/28
 296
END:VEVENT
END:VCALENDAR
