BEGIN:VCALENDAR
METHOD:PUBLISH
CALSCALE:GREGORIAN
PRODID:Elbphilharmonie
VERSION:2.0
BEGIN:VTIMEZONE
TZID:Europe/Berlin
BEGIN:DAYLIGHT
TZOFFSETFROM:+0100
TZOFFSETTO:+0200
TZNAME:CEST
DTSTART:20200329T010000
RRULE:FREQ=YEARLY;INTERVAL=1;BYDAY=-1SU;BYMONTH=3
END:DAYLIGHT
BEGIN:STANDARD
TZOFFSETFROM:+0200
TZOFFSETTO:+0100
TZNAME:CET
DTSTART:20201025T010000
RRULE:FREQ=YEARLY;INTERVAL=1;BYDAY=-1SU;BYMONTH=10
END:STANDARD
END:VTIMEZONE
BEGIN:VEVENT
DTSTAMP:20260423T152800Z
DTSTART:20270109T140000Z
DTEND:20270109T144500Z
LOCATION:Elbphilharmonie Kaistudio 1
SUMMARY:Funkelkonzert S / In Omis Garten
DESCRIPTION:Besetzung\nJuan Carlos Díaz Bueno: Querflöte\nRaphael Brunne
 r: Akkordeon\nStefan Greussing: Percussion\nSerena Galante: Performance\nD
 aniel Esteban: Performance\nDan Tanson: Regie\nAlexandra Lichtenberger: Ko
 stüm\n\nProgramm\nFrische Gartenluft weht durch den Konzertsaal und läss
 t großartige Musik schnuppern
UID:event28371@Elbphilharmonie.de
URL:https://www.elbphilharmonie.de/de/programm/funkelkonzert-s-in-omis-gar
 ten/28371
END:VEVENT
END:VCALENDAR
