BEGIN:VCALENDAR
METHOD:PUBLISH
CALSCALE:GREGORIAN
PRODID:Elbphilharmonie
VERSION:2.0
BEGIN:VTIMEZONE
TZID:Europe/Berlin
BEGIN:DAYLIGHT
TZOFFSETFROM:+0100
TZOFFSETTO:+0200
TZNAME:CEST
DTSTART:20200329T010000
RRULE:FREQ=YEARLY;INTERVAL=1;BYDAY=-1SU;BYMONTH=3
END:DAYLIGHT
BEGIN:STANDARD
TZOFFSETFROM:+0200
TZOFFSETTO:+0100
TZNAME:CET
DTSTART:20201025T010000
RRULE:FREQ=YEARLY;INTERVAL=1;BYDAY=-1SU;BYMONTH=10
END:STANDARD
END:VTIMEZONE
BEGIN:VEVENT
DTSTAMP:20260424T114400Z
DTSTART:20270530T120000Z
DTEND:20270530T124500Z
LOCATION:Elbphilharmonie Kaistudio 1
SUMMARY:Funkelkonzert M / Radikinas
DESCRIPTION:Besetzung\nMosaicollective\nElena La Conte: Flöte\, Gesang\, 
 Komposition\nKristina van de Sand: Violine\, Viola\, Gesang\, Komposition\
 nMargherita Lavosi: Schauspiel\, Gesang\nElide Gramegna: Live-Illustration
 \n
UID:event28325@Elbphilharmonie.de
URL:https://www.elbphilharmonie.de/de/programm/funkelkonzert-m-radikinas/2
 8325
END:VEVENT
END:VCALENDAR
