BEGIN:VCALENDAR
METHOD:PUBLISH
CALSCALE:GREGORIAN
PRODID:Elbphilharmonie
VERSION:2.0
BEGIN:VTIMEZONE
TZID:Europe/Berlin
BEGIN:DAYLIGHT
TZOFFSETFROM:+0100
TZOFFSETTO:+0200
TZNAME:CEST
DTSTART:20200329T010000
RRULE:FREQ=YEARLY;INTERVAL=1;BYDAY=-1SU;BYMONTH=3
END:DAYLIGHT
BEGIN:STANDARD
TZOFFSETFROM:+0200
TZOFFSETTO:+0100
TZNAME:CET
DTSTART:20201025T010000
RRULE:FREQ=YEARLY;INTERVAL=1;BYDAY=-1SU;BYMONTH=10
END:STANDARD
END:VTIMEZONE
BEGIN:VEVENT
DTSTAMP:20260423T164300Z
DTSTART:20270207T130000Z
DTEND:20270207T135000Z
LOCATION:Elbphilharmonie Kleiner Saal
SUMMARY:Funkelkonzert L / Viva Banana
DESCRIPTION:Besetzung\nTocuyito Trio: Klaviertrio\nDalina Ugarte: Violine\
 nSanto Scala: Violoncello\nJoseph Avila: Klavier\nCaecilia Thunnissen: Reg
 ie\nSophie Baumgartner: Bühnenbild\nBartek Kubiak: Lichtdesign\n\nProgram
 m\nDie magische und feurige Welt venezolanischer Klänge und Rhythmen
UID:event28495@Elbphilharmonie.de
URL:https://www.elbphilharmonie.de/de/programm/funkelkonzert-l-viva-banana
 /28495
END:VEVENT
END:VCALENDAR
