BEGIN:VCALENDAR
METHOD:PUBLISH
CALSCALE:GREGORIAN
PRODID:Elbphilharmonie
VERSION:2.0
BEGIN:VTIMEZONE
TZID:Europe/Berlin
BEGIN:DAYLIGHT
TZOFFSETFROM:+0100
TZOFFSETTO:+0200
TZNAME:CEST
DTSTART:20200329T010000
RRULE:FREQ=YEARLY;INTERVAL=1;BYDAY=-1SU;BYMONTH=3
END:DAYLIGHT
BEGIN:STANDARD
TZOFFSETFROM:+0200
TZOFFSETTO:+0100
TZNAME:CET
DTSTART:20201025T010000
RRULE:FREQ=YEARLY;INTERVAL=1;BYDAY=-1SU;BYMONTH=10
END:STANDARD
END:VTIMEZONE
BEGIN:VEVENT
DTSTAMP:20260423T164500Z
DTSTART:20261107T130000Z
DTEND:20261107T140000Z
LOCATION:Elbphilharmonie Kleiner Saal
SUMMARY:Funkelkonzert L / Sonne\, Mond und Streicher
DESCRIPTION:Besetzung\nEnsemble Resonanz\nCarola Bauckholt: Komposition\nA
 nselm Dalferth: Regie\n
UID:event28383@Elbphilharmonie.de
URL:https://www.elbphilharmonie.de/de/programm/funkelkonzert-l-sonne-mond-
 und-streicher/28383
END:VEVENT
END:VCALENDAR
