BEGIN:VCALENDAR
METHOD:PUBLISH
CALSCALE:GREGORIAN
PRODID:Elbphilharmonie
VERSION:2.0
BEGIN:VTIMEZONE
TZID:Europe/Berlin
BEGIN:DAYLIGHT
TZOFFSETFROM:+0100
TZOFFSETTO:+0200
TZNAME:CEST
DTSTART:20200329T010000
RRULE:FREQ=YEARLY;INTERVAL=1;BYDAY=-1SU;BYMONTH=3
END:DAYLIGHT
BEGIN:STANDARD
TZOFFSETFROM:+0200
TZOFFSETTO:+0100
TZNAME:CET
DTSTART:20201025T010000
RRULE:FREQ=YEARLY;INTERVAL=1;BYDAY=-1SU;BYMONTH=10
END:STANDARD
END:VTIMEZONE
BEGIN:VEVENT
DTSTAMP:20260423T161100Z
DTSTART:20260927T120000Z
DTEND:20260927T125000Z
LOCATION:Elbphilharmonie Kleiner Saal
SUMMARY:Funkelkonzert L / Ausflug zum Mond
DESCRIPTION:Besetzung\nPiano & Sand\nAnna Vidyaykina: Sandmalerei\nSabina 
 Hasanova: Klavier\nElisabeth Pöcksteiner: Dramaturgie\n\nProgramm\nMit We
 rken von Claude Debussy\, Piotr I. Tschaikowsky\, Sergej Prokofjew\, Joe H
 isaishi und anderen mondbegeisterten Komponisten
UID:event28435@Elbphilharmonie.de
URL:https://www.elbphilharmonie.de/de/programm/funkelkonzert-l-ausflug-zum
 -mond/28435
END:VEVENT
END:VCALENDAR
