BEGIN:VCALENDAR
METHOD:PUBLISH
CALSCALE:GREGORIAN
PRODID:Elbphilharmonie
VERSION:2.0
BEGIN:VTIMEZONE
TZID:Europe/Berlin
BEGIN:DAYLIGHT
TZOFFSETFROM:+0100
TZOFFSETTO:+0200
TZNAME:CEST
DTSTART:20200329T010000
RRULE:FREQ=YEARLY;INTERVAL=1;BYDAY=-1SU;BYMONTH=3
END:DAYLIGHT
BEGIN:STANDARD
TZOFFSETFROM:+0200
TZOFFSETTO:+0100
TZNAME:CET
DTSTART:20201025T010000
RRULE:FREQ=YEARLY;INTERVAL=1;BYDAY=-1SU;BYMONTH=10
END:STANDARD
END:VTIMEZONE
BEGIN:VEVENT
DTSTAMP:20260423T214000Z
DTSTART:20270530T180000Z
DTEND:20270530T200000Z
LOCATION:Elbphilharmonie Großer Saal
SUMMARY:Filarmonica della Scala / Kirill Gerstein / Riccardo Chailly
DESCRIPTION:Besetzung\nFilarmonica della Scala\nKirill Gerstein: Klavier\n
 Dirigent: Riccardo Chailly\n\nProgramm\nSergej Rachmaninow\nKonzert für K
 lavier und Orchester Nr. 3 d-Moll op. 30\n– Pause – \nNikolai Rimski-
 Korsakow\nScheherazade / Sinfonische Suite op. 35
UID:event28399@Elbphilharmonie.de
URL:https://www.elbphilharmonie.de/de/programm/filarmonica-della-scala-kir
 ill-gerstein-riccardo-chailly/28399
END:VEVENT
END:VCALENDAR
