BEGIN:VCALENDAR
METHOD:PUBLISH
CALSCALE:GREGORIAN
PRODID:Elbphilharmonie
VERSION:2.0
BEGIN:VTIMEZONE
TZID:Europe/Berlin
BEGIN:DAYLIGHT
TZOFFSETFROM:+0100
TZOFFSETTO:+0200
TZNAME:CEST
DTSTART:20200329T010000
RRULE:FREQ=YEARLY;INTERVAL=1;BYDAY=-1SU;BYMONTH=3
END:DAYLIGHT
BEGIN:STANDARD
TZOFFSETFROM:+0200
TZOFFSETTO:+0100
TZNAME:CET
DTSTART:20201025T010000
RRULE:FREQ=YEARLY;INTERVAL=1;BYDAY=-1SU;BYMONTH=10
END:STANDARD
END:VTIMEZONE
BEGIN:VEVENT
DTSTAMP:20260423T183200Z
DTSTART:20261030T173000Z
DTEND:20261030T184500Z
LOCATION:Elbphilharmonie Kleiner Saal
SUMMARY:Farah Kaddour & Tilt Trio
DESCRIPTION:Besetzung\nTILT: Ensemble\nFarah Kaddour: Buzuq\, Gesang\nSama
 h Boulmona: Arabischer Akkordeon\, Gesang\nAli Hout: Schlagwerk\, Gesang\n
 \nProgramm\nDie Buzuq zwischen Tradition und Innovation – klassische ara
 bische Musik und Improvisationen
UID:event27973@Elbphilharmonie.de
URL:https://www.elbphilharmonie.de/de/programm/farah-kaddour-tilt-trio/279
 73
END:VEVENT
END:VCALENDAR
