BEGIN:VCALENDAR
METHOD:PUBLISH
CALSCALE:GREGORIAN
PRODID:Elbphilharmonie
VERSION:2.0
BEGIN:VTIMEZONE
TZID:Europe/Berlin
BEGIN:DAYLIGHT
TZOFFSETFROM:+0100
TZOFFSETTO:+0200
TZNAME:CEST
DTSTART:20200329T010000
RRULE:FREQ=YEARLY;INTERVAL=1;BYDAY=-1SU;BYMONTH=3
END:DAYLIGHT
BEGIN:STANDARD
TZOFFSETFROM:+0200
TZOFFSETTO:+0100
TZNAME:CET
DTSTART:20201025T010000
RRULE:FREQ=YEARLY;INTERVAL=1;BYDAY=-1SU;BYMONTH=10
END:STANDARD
END:VTIMEZONE
BEGIN:VEVENT
DTSTAMP:20260423T151200Z
DTSTART:20261209T190000Z
DTEND:20261209T203000Z
LOCATION:Laeiszhalle Kleiner Saal
SUMMARY:Ethan Iverson / Greg Osby
DESCRIPTION:Besetzung\nGreg Osby: saxophone\nEthan Iverson: piano\n\nProgr
 amm\n»American Short Stories«
UID:event28009@Elbphilharmonie.de
URL:https://www.elbphilharmonie.de/de/programm/ethan-iverson-greg-osby/280
 09
END:VEVENT
END:VCALENDAR
