BEGIN:VCALENDAR
METHOD:PUBLISH
CALSCALE:GREGORIAN
PRODID:Elbphilharmonie
VERSION:2.0
BEGIN:VTIMEZONE
TZID:Europe/Berlin
BEGIN:DAYLIGHT
TZOFFSETFROM:+0100
TZOFFSETTO:+0200
TZNAME:CEST
DTSTART:20200329T010000
RRULE:FREQ=YEARLY;INTERVAL=1;BYDAY=-1SU;BYMONTH=3
END:DAYLIGHT
BEGIN:STANDARD
TZOFFSETFROM:+0200
TZOFFSETTO:+0100
TZNAME:CET
DTSTART:20201025T010000
RRULE:FREQ=YEARLY;INTERVAL=1;BYDAY=-1SU;BYMONTH=10
END:STANDARD
END:VTIMEZONE
BEGIN:VEVENT
DTSTAMP:20260423T151200Z
DTSTART:20270403T173000Z
DTEND:20270403T193000Z
LOCATION:Elbphilharmonie Kleiner Saal
SUMMARY:Emanuil Ivanov / Klavierabend
DESCRIPTION:Besetzung\nEmanuil Ivanov: Klavier\n\nProgramm\nDomenico Scarl
 atti\nSonate d-Moll K 213\nSonate D-Dur K 96\nSonate g-Moll K 450\nSonate 
 G-Dur K 103\nSonate C Dur K 303\nSonate C-Dur K 159\nClaude Debussy\nDouze
  Études\, Band 1\n– Pause – \nDomenico Scarlatti\nSonate f-Moll K 466
 \nSonate f-Moll K 239\nSonate F-Dur K 107\nSonate a-Moll K 188\nSonate a-M
 oll K 3\nSonate A-Dur K 24\nClaude Debussy\nDouze Études\, Band 2
UID:event28037@Elbphilharmonie.de
URL:https://www.elbphilharmonie.de/de/programm/emanuil-ivanov-klavierabend
 /28037
END:VEVENT
END:VCALENDAR
