BEGIN:VCALENDAR
METHOD:PUBLISH
CALSCALE:GREGORIAN
PRODID:Elbphilharmonie
VERSION:2.0
BEGIN:VTIMEZONE
TZID:Europe/Berlin
BEGIN:DAYLIGHT
TZOFFSETFROM:+0100
TZOFFSETTO:+0200
TZNAME:CEST
DTSTART:20200329T010000
RRULE:FREQ=YEARLY;INTERVAL=1;BYDAY=-1SU;BYMONTH=3
END:DAYLIGHT
BEGIN:STANDARD
TZOFFSETFROM:+0200
TZOFFSETTO:+0100
TZNAME:CET
DTSTART:20201025T010000
RRULE:FREQ=YEARLY;INTERVAL=1;BYDAY=-1SU;BYMONTH=10
END:STANDARD
END:VTIMEZONE
BEGIN:VEVENT
DTSTAMP:20260423T111300Z
DTSTART:20270513T173000Z
DTEND:20270513T203000Z
LOCATION:Elbphilharmonie Kleiner Saal
SUMMARY:Ema Nikolovska / Liederabend
DESCRIPTION:Besetzung\nEma Nikolovska: Mezzosopran\nSean Shibe: Gitarre\, 
 E-Gitarre und Elektronik\n\nProgramm\n»Orlando«\nJules Massenet\nÔ souv
 erain\, ô juge\, ô père / Arie des Rodrigue aus der Oper »Le Cid«\nJo
 hn Dowland\nPraeludium\nCome Again\, Sweet Love Doth Now Invite F I/66\nTh
 ink’st Thou Then by Thy Feigning\nCome\, Heavy Sleep F I/40\nSasha Scott
 \n1000 Parts of You\nDetlev Glanert\nInsel der Düfte / aus: Orlando-Liede
 r\nHexensabbat / aus: Orlando-Lieder\nThomas Adès\nOver the Sea / Szene d
 er Blanca aus der Oper »The Exterminating Angel«\nDetlev Glanert\nLied d
 er Wehmut / aus: Orlando-Lieder\nThomas Adès\nHabanera / Arie der Leonora
  aus »The Exterminating Angel«\n– Pause – \nDetlev Glanert\nOrlandos
  Traum / aus: Orlando-Lieder\nLied vom Meer / aus: Orlando-Lieder\nDer Hip
 pogryph / aus: Orlando-Lieder\nCassandra Miller\nDream Memorandum\nHans Ab
 rahamsen\nSee the Limpid Spring / aus: Two Inger Christensen Songs\nFranz 
 Schubert\nSo laßt mich scheinen / aus: Gesänge aus Wilhelm Meister\nJohn
  Dowland\nOrlando Sleepeth\nPauline Viardot-García\nAimez-moi\nBob Dylan\
 nMasters of War\nLaurie Anderson\nO Superman (for Massenet)
UID:event28201@Elbphilharmonie.de
URL:https://www.elbphilharmonie.de/de/programm/ema-nikolovska-liederabend/
 28201
END:VEVENT
END:VCALENDAR
