BEGIN:VCALENDAR
METHOD:PUBLISH
CALSCALE:GREGORIAN
PRODID:Elbphilharmonie
VERSION:2.0
BEGIN:VTIMEZONE
TZID:Europe/Berlin
BEGIN:DAYLIGHT
TZOFFSETFROM:+0100
TZOFFSETTO:+0200
TZNAME:CEST
DTSTART:20200329T010000
RRULE:FREQ=YEARLY;INTERVAL=1;BYDAY=-1SU;BYMONTH=3
END:DAYLIGHT
BEGIN:STANDARD
TZOFFSETFROM:+0200
TZOFFSETTO:+0100
TZNAME:CET
DTSTART:20201025T010000
RRULE:FREQ=YEARLY;INTERVAL=1;BYDAY=-1SU;BYMONTH=10
END:STANDARD
END:VTIMEZONE
BEGIN:VEVENT
DTSTAMP:20260423T162800Z
DTSTART:20270120T190000Z
DTEND:20270120T210000Z
LOCATION:Elbphilharmonie Großer Saal
SUMMARY:Die Deutsche Kammerphilharmonie Bremen / Vilde Frang / Tarmo Pelto
 koski
DESCRIPTION:Besetzung\nDie Deutsche Kammerphilharmonie Bremen\nVilde Frang
 : Violine\nDirigent: Tarmo Peltokoski\n\nProgramm\nFelix Mendelssohn Barth
 oldy\nOuvertüre zu »Ruy Blas« op. 95\nRobert Schumann\nKonzert für Vi
 oline und Orchester d-Moll WoO 23\n– Pause – \nFelix Mendelssohn Barth
 oldy\nSinfonie Nr. 5 D-Dur op. 107 »Reformationssinfonie«
UID:event28170@Elbphilharmonie.de
URL:https://www.elbphilharmonie.de/de/programm/die-deutsche-kammerphilharm
 onie-bremen-vilde-frang-tarmo-peltokoski/28170
END:VEVENT
END:VCALENDAR
