BEGIN:VCALENDAR
METHOD:PUBLISH
CALSCALE:GREGORIAN
PRODID:Elbphilharmonie
VERSION:2.0
BEGIN:VTIMEZONE
TZID:Europe/Berlin
BEGIN:DAYLIGHT
TZOFFSETFROM:+0100
TZOFFSETTO:+0200
TZNAME:CEST
DTSTART:20200329T010000
RRULE:FREQ=YEARLY;INTERVAL=1;BYDAY=-1SU;BYMONTH=3
END:DAYLIGHT
BEGIN:STANDARD
TZOFFSETFROM:+0200
TZOFFSETTO:+0100
TZNAME:CET
DTSTART:20201025T010000
RRULE:FREQ=YEARLY;INTERVAL=1;BYDAY=-1SU;BYMONTH=10
END:STANDARD
END:VTIMEZONE
BEGIN:VEVENT
DTSTAMP:20260423T162800Z
DTSTART:20261217T190000Z
DTEND:20261217T204500Z
LOCATION:Elbphilharmonie Großer Saal
SUMMARY:Die Deutsche Kammerphilharmonie Bremen / Truls Mørk / Paavo Järv
 i
DESCRIPTION:Besetzung\nDie Deutsche Kammerphilharmonie Bremen\nTruls Mørk
 : Violoncello\nDirigent: Paavo Järvi\n\nProgramm\nFranz Schubert\nOuvert
 üre D-Dur D 590 »im italienischen Stile«\nRobert Schumann\nKonzert für
  Violoncello und Orchester a-Moll op. 129\n– Pause – \nFranz Schubert
 \nSinfonie Nr. 2 B-Dur D 125
UID:event28392@Elbphilharmonie.de
URL:https://www.elbphilharmonie.de/de/programm/die-deutsche-kammerphilharm
 onie-bremen-truls-mrk-paavo-jarvi/28392
END:VEVENT
END:VCALENDAR
