BEGIN:VCALENDAR
METHOD:PUBLISH
CALSCALE:GREGORIAN
PRODID:Elbphilharmonie
VERSION:2.0
BEGIN:VTIMEZONE
TZID:Europe/Berlin
BEGIN:DAYLIGHT
TZOFFSETFROM:+0100
TZOFFSETTO:+0200
TZNAME:CEST
DTSTART:20200329T010000
RRULE:FREQ=YEARLY;INTERVAL=1;BYDAY=-1SU;BYMONTH=3
END:DAYLIGHT
BEGIN:STANDARD
TZOFFSETFROM:+0200
TZOFFSETTO:+0100
TZNAME:CET
DTSTART:20201025T010000
RRULE:FREQ=YEARLY;INTERVAL=1;BYDAY=-1SU;BYMONTH=10
END:STANDARD
END:VTIMEZONE
BEGIN:VEVENT
DTSTAMP:20260423T121100Z
DTSTART:20261204T190000Z
DTEND:20261204T220000Z
LOCATION:Elbphilharmonie Großer Saal
SUMMARY:Colin Currie Group / Bryce Dessner
DESCRIPTION:Besetzung\nColin Currie Group\nBryce Dessner: Gitarre\n\nProgr
 amm\nSteve Reich\nClapping Music\nTwo Pianos\nRadio Rewrite\nDouble Sextet
 \n– Pause – \nSteve Reich\nElectric Counterpoint\nQuartett für zwei K
 laviere und Schlagwerk\nIn All Your Ways
UID:event28166@Elbphilharmonie.de
URL:https://www.elbphilharmonie.de/de/programm/colin-currie-group-bryce-de
 ssner/28166
END:VEVENT
END:VCALENDAR
