BEGIN:VCALENDAR
METHOD:PUBLISH
CALSCALE:GREGORIAN
PRODID:Elbphilharmonie
VERSION:2.0
BEGIN:VTIMEZONE
TZID:Europe/Berlin
BEGIN:DAYLIGHT
TZOFFSETFROM:+0100
TZOFFSETTO:+0200
TZNAME:CEST
DTSTART:20200329T010000
RRULE:FREQ=YEARLY;INTERVAL=1;BYDAY=-1SU;BYMONTH=3
END:DAYLIGHT
BEGIN:STANDARD
TZOFFSETFROM:+0200
TZOFFSETTO:+0100
TZNAME:CET
DTSTART:20201025T010000
RRULE:FREQ=YEARLY;INTERVAL=1;BYDAY=-1SU;BYMONTH=10
END:STANDARD
END:VTIMEZONE
BEGIN:VEVENT
DTSTAMP:20260423T115400Z
DTSTART:20261203T183000Z
DTEND:20261203T210000Z
LOCATION:Laeiszhalle Großer Saal
SUMMARY:Charlie Chaplins »Lichter der Großstadt« – Stummfilm mit Live
 musik
DESCRIPTION:Besetzung\nSymphoniker Hamburg\nDirigent: Stefanos Tsialis\n\n
 Programm\nCharles Chaplin\nMusik zum Film »City Lights« (Regie: Charles 
 Chaplin\, US 1931) / Bearbeitung von Carl Davis
UID:event28056@Elbphilharmonie.de
URL:https://www.elbphilharmonie.de/de/programm/charlie-chaplins-lichter-de
 r-grostadt-stummfilm-mit-livemusik/28056
END:VEVENT
END:VCALENDAR
