BEGIN:VCALENDAR
METHOD:PUBLISH
CALSCALE:GREGORIAN
PRODID:Elbphilharmonie
VERSION:2.0
BEGIN:VTIMEZONE
TZID:Europe/Berlin
BEGIN:DAYLIGHT
TZOFFSETFROM:+0100
TZOFFSETTO:+0200
TZNAME:CEST
DTSTART:20200329T010000
RRULE:FREQ=YEARLY;INTERVAL=1;BYDAY=-1SU;BYMONTH=3
END:DAYLIGHT
BEGIN:STANDARD
TZOFFSETFROM:+0200
TZOFFSETTO:+0100
TZNAME:CET
DTSTART:20201025T010000
RRULE:FREQ=YEARLY;INTERVAL=1;BYDAY=-1SU;BYMONTH=10
END:STANDARD
END:VTIMEZONE
BEGIN:VEVENT
DTSTAMP:20260424T114400Z
DTSTART:20270119T183000Z
DTEND:20270119T201500Z
LOCATION:Elbphilharmonie Kleiner Saal
SUMMARY:Camila Mandillo\, Sopran
DESCRIPTION:Besetzung\nCamila Mandillo: Sopran\nFilipe Gaio: Klavier\n\nPr
 ogramm\n»Transfigurations«\nOlivier Messiaen\nTrois Mélodies\nRuth Sch
 önthal\nArme Erde / aus: Wildunger Liederzyklus\, Band 1 »Ingrids Lieder
 «\nRichard Strauss\nAcht Lieder aus Letzte Blätter op.  10\n– Pause 
 – \nBushra El-Turk\nNeues Werk\nOlivier Messiaen\nChants de terre et de 
 ciel
UID:event28148@Elbphilharmonie.de
URL:https://www.elbphilharmonie.de/de/programm/camila-mandillo-sopran/2814
 8
END:VEVENT
END:VCALENDAR
