BEGIN:VCALENDAR
METHOD:PUBLISH
CALSCALE:GREGORIAN
PRODID:Elbphilharmonie
VERSION:2.0
BEGIN:VTIMEZONE
TZID:Europe/Berlin
BEGIN:DAYLIGHT
TZOFFSETFROM:+0100
TZOFFSETTO:+0200
TZNAME:CEST
DTSTART:20200329T010000
RRULE:FREQ=YEARLY;INTERVAL=1;BYDAY=-1SU;BYMONTH=3
END:DAYLIGHT
BEGIN:STANDARD
TZOFFSETFROM:+0200
TZOFFSETTO:+0100
TZNAME:CET
DTSTART:20201025T010000
RRULE:FREQ=YEARLY;INTERVAL=1;BYDAY=-1SU;BYMONTH=10
END:STANDARD
END:VTIMEZONE
BEGIN:VEVENT
DTSTAMP:20260424T150000Z
DTSTART:20261215T190000Z
DTEND:20261215T210000Z
LOCATION:Laeiszhalle Großer Saal
SUMMARY:Calmus Ensemble: Christmas Oratorio
DESCRIPTION:Besetzung\nCalmus Ensemble: Vokalensemble\nElisabeth Mücksch:
  Sopran\nJohanna Gröhn Veit: Alt\nFriedrich Bracks: Tenor\nJonathan Müll
 er Saretz: Bariton\nMichael B. Gernert: Bass\n
UID:event28800@Elbphilharmonie.de
URL:https://www.elbphilharmonie.de/de/programm/calmus-ensemble-christmas-o
 ratorio/28800
END:VEVENT
END:VCALENDAR
