BEGIN:VCALENDAR
METHOD:PUBLISH
CALSCALE:GREGORIAN
PRODID:Elbphilharmonie
VERSION:2.0
BEGIN:VTIMEZONE
TZID:Europe/Berlin
BEGIN:DAYLIGHT
TZOFFSETFROM:+0100
TZOFFSETTO:+0200
TZNAME:CEST
DTSTART:20200329T010000
RRULE:FREQ=YEARLY;INTERVAL=1;BYDAY=-1SU;BYMONTH=3
END:DAYLIGHT
BEGIN:STANDARD
TZOFFSETFROM:+0200
TZOFFSETTO:+0100
TZNAME:CET
DTSTART:20201025T010000
RRULE:FREQ=YEARLY;INTERVAL=1;BYDAY=-1SU;BYMONTH=10
END:STANDARD
END:VTIMEZONE
BEGIN:VEVENT
DTSTAMP:20260423T181700Z
DTSTART:20270227T190000Z
DTEND:20270227T220000Z
LOCATION:Elbphilharmonie Großer Saal
SUMMARY:Berlioz: La damnation de Faust
DESCRIPTION:Besetzung\nhr-Sinfonieorchester Frankfurt\nSingverein der Gese
 llschaft der Musikfreunde in Wien\nAngela Brower: Marguerite\nCharles Cast
 ronovo: Faust\nJohn Relyea: Méphistophélès\nAdrien Fournaison: Brandner
 \nDirigent: Alain Altinoglu\n\nProgramm\nHector Berlioz\nLa damnation de F
 aust / Légende dramatique in vier Teilen op. 24\nAufführung in französ
 ischer Sprache mit deutschen Übertiteln
UID:event28282@Elbphilharmonie.de
URL:https://www.elbphilharmonie.de/de/programm/berlioz-la-damnation-de-fau
 st/28282
END:VEVENT
END:VCALENDAR
