BEGIN:VCALENDAR
METHOD:PUBLISH
CALSCALE:GREGORIAN
PRODID:Elbphilharmonie
VERSION:2.0
BEGIN:VTIMEZONE
TZID:Europe/Berlin
BEGIN:DAYLIGHT
TZOFFSETFROM:+0100
TZOFFSETTO:+0200
TZNAME:CEST
DTSTART:20200329T010000
RRULE:FREQ=YEARLY;INTERVAL=1;BYDAY=-1SU;BYMONTH=3
END:DAYLIGHT
BEGIN:STANDARD
TZOFFSETFROM:+0200
TZOFFSETTO:+0100
TZNAME:CET
DTSTART:20201025T010000
RRULE:FREQ=YEARLY;INTERVAL=1;BYDAY=-1SU;BYMONTH=10
END:STANDARD
END:VTIMEZONE
BEGIN:VEVENT
DTSTAMP:20260423T233200Z
DTSTART:20270203T190000Z
DTEND:20270203T210000Z
LOCATION:Elbphilharmonie Großer Saal
SUMMARY:Beethoven: Missa solemnis / Jordi Savall
DESCRIPTION:Besetzung\nLe Concert des Nations\nLa Capella Nacional de Cata
 lunya: Vokalensemble\nLina Johnson: Sopran\nOlivia Vermeulen: Mezzosopran\
 nMartin Platz: Tenor\nManuel Walser: Bariton\nDirigent: Jordi Savall\n\nPr
 ogramm\nLudwig van Beethoven\nMissa solemnis für Soli\, Chor und Orcheste
 r D-Dur op. 123
UID:event28175@Elbphilharmonie.de
URL:https://www.elbphilharmonie.de/de/programm/beethoven-missa-solemnis-jo
 rdi-savall/28175
END:VEVENT
END:VCALENDAR
