BEGIN:VCALENDAR
METHOD:PUBLISH
CALSCALE:GREGORIAN
PRODID:Elbphilharmonie
VERSION:2.0
BEGIN:VTIMEZONE
TZID:Europe/Berlin
BEGIN:DAYLIGHT
TZOFFSETFROM:+0100
TZOFFSETTO:+0200
TZNAME:CEST
DTSTART:20200329T010000
RRULE:FREQ=YEARLY;INTERVAL=1;BYDAY=-1SU;BYMONTH=3
END:DAYLIGHT
BEGIN:STANDARD
TZOFFSETFROM:+0200
TZOFFSETTO:+0100
TZNAME:CET
DTSTART:20201025T010000
RRULE:FREQ=YEARLY;INTERVAL=1;BYDAY=-1SU;BYMONTH=10
END:STANDARD
END:VTIMEZONE
BEGIN:VEVENT
DTSTAMP:20260423T233300Z
DTSTART:20270308T190000Z
DTEND:20270308T220000Z
LOCATION:Elbphilharmonie Großer Saal
SUMMARY:Bamberger Symphoniker / María Dueñas / Jakub Hrůša
DESCRIPTION:Besetzung\nBamberger Symphoniker\nMaría Dueñas: Violine\nDir
 igent: Jakub Hrůša\n\nProgramm\nBohuslav Martinů\nSinfonie Nr. 6 H 343 
 »Fantaisies symphoniques«\n– Pause – \nSergej Prokofjew\nKonzert fü
 r Violine und Orchester Nr. 1 D-Dur op. 19\nLudwig van Beethoven\nSinfoni
 e Nr. 8 F-Dur op. 93
UID:event27935@Elbphilharmonie.de
URL:https://www.elbphilharmonie.de/de/programm/bamberger-symphoniker-maria
 -duenas-jakub-hrusa/27935
END:VEVENT
END:VCALENDAR
