BEGIN:VCALENDAR
METHOD:PUBLISH
CALSCALE:GREGORIAN
PRODID:Elbphilharmonie
VERSION:2.0
BEGIN:VTIMEZONE
TZID:Europe/Berlin
BEGIN:DAYLIGHT
TZOFFSETFROM:+0100
TZOFFSETTO:+0200
TZNAME:CEST
DTSTART:20200329T010000
RRULE:FREQ=YEARLY;INTERVAL=1;BYDAY=-1SU;BYMONTH=3
END:DAYLIGHT
BEGIN:STANDARD
TZOFFSETFROM:+0200
TZOFFSETTO:+0100
TZNAME:CET
DTSTART:20201025T010000
RRULE:FREQ=YEARLY;INTERVAL=1;BYDAY=-1SU;BYMONTH=10
END:STANDARD
END:VTIMEZONE
BEGIN:VEVENT
DTSTAMP:20260423T135400Z
DTSTART:20270121T190000Z
DTEND:20270121T210000Z
LOCATION:Laeiszhalle Großer Saal
SUMMARY:Balthasar-Neumann-Orchester
DESCRIPTION:Besetzung\nBalthasar-Neumann-Orchester\n\nProgramm\nJohann Seb
 astian Bach\nBrandenburgische Konzerte Nr. 1–6 BWV 1046–1051
UID:event28793@Elbphilharmonie.de
URL:https://www.elbphilharmonie.de/de/programm/balthasar-neumann-orchester
 /28793
END:VEVENT
END:VCALENDAR
