BEGIN:VCALENDAR
METHOD:PUBLISH
CALSCALE:GREGORIAN
PRODID:Elbphilharmonie
VERSION:2.0
BEGIN:VTIMEZONE
TZID:Europe/Berlin
BEGIN:DAYLIGHT
TZOFFSETFROM:+0100
TZOFFSETTO:+0200
TZNAME:CEST
DTSTART:20200329T010000
RRULE:FREQ=YEARLY;INTERVAL=1;BYDAY=-1SU;BYMONTH=3
END:DAYLIGHT
BEGIN:STANDARD
TZOFFSETFROM:+0200
TZOFFSETTO:+0100
TZNAME:CET
DTSTART:20201025T010000
RRULE:FREQ=YEARLY;INTERVAL=1;BYDAY=-1SU;BYMONTH=10
END:STANDARD
END:VTIMEZONE
BEGIN:VEVENT
DTSTAMP:20260424T003700Z
DTSTART:20270619T180000Z
DTEND:20270619T201500Z
LOCATION:Elbphilharmonie Großer Saal
SUMMARY:Bach: h-Moll-Messe
DESCRIPTION:Besetzung\nNDR Vokalensemble\nAkademie für Alte Musik Berlin\
 nMiriam Kutrowatz: Sopran\nMaarten Engeltjes: Altus\nJulian Prégardien: T
 enor\nMilan Siljanov: Bass\nLeitung: Klaas Stok\n\nProgramm\nJohann Sebast
 ian Bach\nMesse h-Moll BWV 232\nDas Konzert findet mit einer Pause statt.
UID:event28160@Elbphilharmonie.de
URL:https://www.elbphilharmonie.de/de/programm/bach-h-moll-messe/28160
END:VEVENT
END:VCALENDAR
