BEGIN:VCALENDAR
METHOD:PUBLISH
CALSCALE:GREGORIAN
PRODID:Elbphilharmonie
VERSION:2.0
BEGIN:VTIMEZONE
TZID:Europe/Berlin
BEGIN:DAYLIGHT
TZOFFSETFROM:+0100
TZOFFSETTO:+0200
TZNAME:CEST
DTSTART:20200329T010000
RRULE:FREQ=YEARLY;INTERVAL=1;BYDAY=-1SU;BYMONTH=3
END:DAYLIGHT
BEGIN:STANDARD
TZOFFSETFROM:+0200
TZOFFSETTO:+0100
TZNAME:CET
DTSTART:20201025T010000
RRULE:FREQ=YEARLY;INTERVAL=1;BYDAY=-1SU;BYMONTH=10
END:STANDARD
END:VTIMEZONE
BEGIN:VEVENT
DTSTAMP:20260423T224500Z
DTSTART:20270313T163000Z
DTEND:20270313T174500Z
LOCATION:Elbphilharmonie Kleiner Saal
SUMMARY:Ayumi Paul: The Singing Project
DESCRIPTION:Besetzung\nAyumi Paul: Stimme\, Komposition\n\nProgramm\n»The
  Singing Project«\nEine partizipative Praxis\, die durch Zuhören und gem
 einsames Singen Welten miteinander verbindet
UID:event28664@Elbphilharmonie.de
URL:https://www.elbphilharmonie.de/de/programm/ayumi-paul-the-singing-proj
 ect/28664
END:VEVENT
END:VCALENDAR
