BEGIN:VCALENDAR
METHOD:PUBLISH
CALSCALE:GREGORIAN
PRODID:Elbphilharmonie
VERSION:2.0
BEGIN:VTIMEZONE
TZID:Europe/Berlin
BEGIN:DAYLIGHT
TZOFFSETFROM:+0100
TZOFFSETTO:+0200
TZNAME:CEST
DTSTART:20200329T010000
RRULE:FREQ=YEARLY;INTERVAL=1;BYDAY=-1SU;BYMONTH=3
END:DAYLIGHT
BEGIN:STANDARD
TZOFFSETFROM:+0200
TZOFFSETTO:+0100
TZNAME:CET
DTSTART:20201025T010000
RRULE:FREQ=YEARLY;INTERVAL=1;BYDAY=-1SU;BYMONTH=10
END:STANDARD
END:VTIMEZONE
BEGIN:VEVENT
DTSTAMP:20260423T224500Z
DTSTART:20270118T183000Z
DTEND:20270118T201500Z
LOCATION:Elbphilharmonie Kleiner Saal
SUMMARY:Ava Bahari\, Violine
DESCRIPTION:Besetzung\nAva Bahari: Violine\nNathanaël Gouin: Klavier\n\nP
 rogramm\nIgor Strawinsky\nDivertimento / aus: Le baiser de la fée (Fassun
 g für Violine und Klavier)\nElfrida Andrée\nZwei Romanzen für Violine u
 nd Klavier\nAnders Hillborg\nNeues Werk\n– Pause – \nLudwig van Beetho
 ven\nSonate für Violine und Klavier A-Dur op. 47 »Kreutzer-Sonate«
UID:event28079@Elbphilharmonie.de
URL:https://www.elbphilharmonie.de/de/programm/ava-bahari-violine/28079
END:VEVENT
END:VCALENDAR
