BEGIN:VCALENDAR
METHOD:PUBLISH
CALSCALE:GREGORIAN
PRODID:Elbphilharmonie
VERSION:2.0
BEGIN:VTIMEZONE
TZID:Europe/Berlin
BEGIN:DAYLIGHT
TZOFFSETFROM:+0100
TZOFFSETTO:+0200
TZNAME:CEST
DTSTART:20200329T010000
RRULE:FREQ=YEARLY;INTERVAL=1;BYDAY=-1SU;BYMONTH=3
END:DAYLIGHT
BEGIN:STANDARD
TZOFFSETFROM:+0200
TZOFFSETTO:+0100
TZNAME:CET
DTSTART:20201025T010000
RRULE:FREQ=YEARLY;INTERVAL=1;BYDAY=-1SU;BYMONTH=10
END:STANDARD
END:VTIMEZONE
BEGIN:VEVENT
DTSTAMP:20260423T115400Z
DTSTART:20270425T090000Z
DTEND:20270425T111500Z
LOCATION:Elbphilharmonie Großer Saal
SUMMARY:Aurel Dawidiuk\, Orgel
DESCRIPTION:Besetzung\nAurel Dawidiuk: Orgel\n\nProgramm\nJohann Sebastian
  Bach\nToccata und Fuge d-Moll BWV 565\nZsigmond Szathmáry\nB-A-C-H »Hom
 mage à ...«\nFranz Liszt\nPräludium und Fuge über den Namen B-A-C-H S 
 260\n– Pause – \nCharles Tournemire / Maurice Duruflé\nImprovisation 
 über »Te Deum«\nJohann Sebastian Bach / Maurice Duruflé\nErtöt uns du
 rch dein’ Güte / aus: Jesus nahm zu sich die Zwölfe BWV 22\nCésar Fra
 nck\nChoral Nr. 3 a-Moll FWV 40\nJohann Sebastian Bach / Maurice Duruflé\
 nJesus bleibet meine Freude / aus: Herz und Mund und Tat und Leben BWV 147
 \nCharles Tournemire / Maurice Duruflé\nImprovisation über »Victimae Pa
 schali Laudes«
UID:event28142@Elbphilharmonie.de
URL:https://www.elbphilharmonie.de/de/programm/aurel-dawidiuk-orgel/28142
END:VEVENT
END:VCALENDAR
