BEGIN:VCALENDAR
METHOD:PUBLISH
CALSCALE:GREGORIAN
PRODID:Elbphilharmonie
VERSION:2.0
BEGIN:VTIMEZONE
TZID:Europe/Berlin
BEGIN:DAYLIGHT
TZOFFSETFROM:+0100
TZOFFSETTO:+0200
TZNAME:CEST
DTSTART:20200329T010000
RRULE:FREQ=YEARLY;INTERVAL=1;BYDAY=-1SU;BYMONTH=3
END:DAYLIGHT
BEGIN:STANDARD
TZOFFSETFROM:+0200
TZOFFSETTO:+0100
TZNAME:CET
DTSTART:20201025T010000
RRULE:FREQ=YEARLY;INTERVAL=1;BYDAY=-1SU;BYMONTH=10
END:STANDARD
END:VTIMEZONE
BEGIN:VEVENT
DTSTAMP:20260423T230000Z
DTSTART:20270116T150000Z
DTEND:20270116T161500Z
LOCATION:Laeiszhalle Kleiner Saal
SUMMARY:Astatine Trio
DESCRIPTION:Besetzung\nAstatine Trio\nMaja Horvat: Violine\nRiya Hamie: Vi
 oloncello\nBerniya Hamie: Klavier\n\nProgramm\nRobert Schumann\nKlaviertri
 o Nr. 3 g-Moll op. 110\nLudwig van Beethoven\nKlaviertrio Es-Dur op. 70/
 2
UID:event28010@Elbphilharmonie.de
URL:https://www.elbphilharmonie.de/de/programm/astatine-trio/28010
END:VEVENT
END:VCALENDAR
