BEGIN:VCALENDAR
METHOD:PUBLISH
CALSCALE:GREGORIAN
PRODID:Elbphilharmonie
VERSION:2.0
BEGIN:VTIMEZONE
TZID:Europe/Berlin
BEGIN:DAYLIGHT
TZOFFSETFROM:+0100
TZOFFSETTO:+0200
TZNAME:CEST
DTSTART:20200329T010000
RRULE:FREQ=YEARLY;INTERVAL=1;BYDAY=-1SU;BYMONTH=3
END:DAYLIGHT
BEGIN:STANDARD
TZOFFSETFROM:+0200
TZOFFSETTO:+0100
TZNAME:CET
DTSTART:20201025T010000
RRULE:FREQ=YEARLY;INTERVAL=1;BYDAY=-1SU;BYMONTH=10
END:STANDARD
END:VTIMEZONE
BEGIN:VEVENT
DTSTAMP:20260423T115400Z
DTSTART:20270128T190000Z
DTEND:20270128T220000Z
LOCATION:Elbphilharmonie Großer Saal
SUMMARY:Asmik Grigorian / Edgaras Montvidas / Litauisches Nationales Symph
 onieorchester / Giedre Šlekytė
DESCRIPTION:Besetzung\nLitauisches Nationales Symphonieorchester\nAsmik Gr
 igorian: Sopran\nEdgaras Montvidas: Tenor\nDirigentin: Giedrė Šlekytė\n
 \nProgramm\nMikalojus Konstantinas Čiurlionis\nIm Walde / Sinfonische Dic
 htung\nKazimieras Viktoras Banaitis\nKastytis Ballade / aus der Oper »Jū
 ratė und Kastytis«\nBalys Dvarionas\nDalia’s Aria / aus der Oper »Dal
 ia«\nRichard Wagner\nVorspiel zum 3. Aufzug aus »Lohengrin« WWV 75\nIn 
 fernem Land / Gralserzählung des Lohengrin aus der Oper »Lohengrin« WWV
  75\nTraft ihr das Schiff im Meere / Ballade der Senta aus der Oper »Der 
 fliegende Holländer« WWV 63\n– Pause – \nAmilcare Ponchielli\nSinfon
 ia / aus der Oper »I Lituani«\nSi...questa estrema grazia (Ja…diese au
 ßerordentliche Gnade) / Arie des Walter aus der Oper »I Lituani«\nGiaco
 mo Puccini\nSola\, perduta\, abbandonata (Allein\, verloren\, verlassen) /
  Arie der Manon Lescaut aus der Oper »Manon Lescaut«\nTu\, tu\, amore\, 
 tu? (Du\, du\, meine Liebe\, du?) / Duett aus der Oper »Manon Lescaut«\n
 Addio\, fiorito asil (Lebwohl\, blumengeschmückter Zufluchtsort) / Arie d
 es Pinkerton aus der Oper »Madame Butterfly«\nUn bel dì vedremo (Eines 
 Tages sehn’ wir) / Arie der Butterfly aus der Oper »Madame Butterfly«\
 nVogliatemi bene (Liebe mich) / Duett aus der Oper »Madame Butterfly«\nJ
 oseph Jongen\nFantasie in E-Dur Op. 12 / für Violine und Orchester
UID:event28179@Elbphilharmonie.de
URL:https://www.elbphilharmonie.de/de/programm/asmik-grigorian-edgaras-mon
 tvidas-litauisches-nationales-symphonieorchester-giedre-slekyte/28179
END:VEVENT
END:VCALENDAR
