BEGIN:VCALENDAR
METHOD:PUBLISH
CALSCALE:GREGORIAN
PRODID:Elbphilharmonie
VERSION:2.0
BEGIN:VTIMEZONE
TZID:Europe/Berlin
BEGIN:DAYLIGHT
TZOFFSETFROM:+0100
TZOFFSETTO:+0200
TZNAME:CEST
DTSTART:20200329T010000
RRULE:FREQ=YEARLY;INTERVAL=1;BYDAY=-1SU;BYMONTH=3
END:DAYLIGHT
BEGIN:STANDARD
TZOFFSETFROM:+0200
TZOFFSETTO:+0100
TZNAME:CET
DTSTART:20201025T010000
RRULE:FREQ=YEARLY;INTERVAL=1;BYDAY=-1SU;BYMONTH=10
END:STANDARD
END:VTIMEZONE
BEGIN:VEVENT
DTSTAMP:20260423T115400Z
DTSTART:20270227T183000Z
DTEND:20270227T203000Z
LOCATION:Elbphilharmonie Kleiner Saal
SUMMARY:Arsenii Moon / Klavierabend
DESCRIPTION:Besetzung\nArsenii Moon: Klavier\n\nProgramm\nDomenico Scarlat
 ti\nSonate C-Dur K 159\nAlexander Skrjabin\nPrélude C-Dur op. 11/1\nDome
 nico Scarlatti\nSonate a-Moll K 109\nAlexander Skrjabin\nPrélude a-Moll o
 p. 11/2\nDomenico Scarlatti\nSonate d-Moll K 444\nAlexander Skrjabin\nPr
 élude fis-Moll op. 11/8\nDomenico Scarlatti\nSonate h-Moll K 27\nAlexand
 er Skrjabin\nPrélude es-Moll op. 11/14\nPrélude Des-Dur op. 11/15\nDom
 enico Scarlatti\nSonate f-Moll K 239\nAlexander Skrjabin\nPrélude Es-Dur 
 op. 11/19\nDomenico Scarlatti\nSonate g-Moll K 43\nAlexander Skrjabin\nPr
 élude e-Moll op. 11/4\nDomenico Scarlatti\nSonate d-Moll K 9\nAlexander 
 Skrjabin\nPrélude d-Moll op. 11/24
UID:event28038@Elbphilharmonie.de
URL:https://www.elbphilharmonie.de/de/programm/arsenii-moon-klavierabend/2
 8038
END:VEVENT
END:VCALENDAR
