BEGIN:VCALENDAR
METHOD:PUBLISH
CALSCALE:GREGORIAN
PRODID:Elbphilharmonie
VERSION:2.0
BEGIN:VTIMEZONE
TZID:Europe/Berlin
BEGIN:DAYLIGHT
TZOFFSETFROM:+0100
TZOFFSETTO:+0200
TZNAME:CEST
DTSTART:20200329T010000
RRULE:FREQ=YEARLY;INTERVAL=1;BYDAY=-1SU;BYMONTH=3
END:DAYLIGHT
BEGIN:STANDARD
TZOFFSETFROM:+0200
TZOFFSETTO:+0100
TZNAME:CET
DTSTART:20201025T010000
RRULE:FREQ=YEARLY;INTERVAL=1;BYDAY=-1SU;BYMONTH=10
END:STANDARD
END:VTIMEZONE
BEGIN:VEVENT
DTSTAMP:20260424T202400Z
DTSTART:20270123T183000Z
DTEND:20270123T201500Z
LOCATION:Elbphilharmonie Kleiner Saal
SUMMARY:Amelio Trio
DESCRIPTION:Besetzung\nAmelio Trio\nJohanna Schubert: Violine\nMerle Geiß
 ler: Violoncello\nPhilipp Kirchner: Klavier\n\nProgramm\nCharles Ives\nKla
 viertrio\nLudwig van Beethoven\nTrio in einem Satz B-Dur WoO 39\nBirke Ber
 telsmeier\nvertrautes angezogensein\n– Pause – \nHelena Winkelman\nNeu
 es Werk\nLudwig van Beethoven\nKlaviertrio B-Dur op. 97 »Erzherzog-Trio
 «
UID:event28152@Elbphilharmonie.de
URL:https://www.elbphilharmonie.de/de/programm/amelio-trio/28152
END:VEVENT
END:VCALENDAR
