BEGIN:VCALENDAR
METHOD:PUBLISH
CALSCALE:GREGORIAN
PRODID:Elbphilharmonie
VERSION:2.0
BEGIN:VTIMEZONE
TZID:Europe/Berlin
BEGIN:DAYLIGHT
TZOFFSETFROM:+0100
TZOFFSETTO:+0200
TZNAME:CEST
DTSTART:20200329T010000
RRULE:FREQ=YEARLY;INTERVAL=1;BYDAY=-1SU;BYMONTH=3
END:DAYLIGHT
BEGIN:STANDARD
TZOFFSETFROM:+0200
TZOFFSETTO:+0100
TZNAME:CET
DTSTART:20201025T010000
RRULE:FREQ=YEARLY;INTERVAL=1;BYDAY=-1SU;BYMONTH=10
END:STANDARD
END:VTIMEZONE
BEGIN:VEVENT
DTSTAMP:20260423T002700Z
DTSTART:20260505T110000Z
DTEND:20260505T170000Z
LOCATION:Laeiszhalle Kleiner Saal
SUMMARY:»Alles gesagt?« live mit Scott Galloway
DESCRIPTION:Besetzung\nChristoph Amend: Gespräch\nJochen Wegner: Gespräc
 h\nScott Galloway: Gespräch\n
UID:event28875@Elbphilharmonie.de
URL:https://www.elbphilharmonie.de/de/programm/alles-gesagt-live-mit-scott
 -galloway/28875
END:VEVENT
END:VCALENDAR
