BEGIN:VCALENDAR
METHOD:PUBLISH
CALSCALE:GREGORIAN
PRODID:Elbphilharmonie
VERSION:2.0
BEGIN:VTIMEZONE
TZID:Europe/Berlin
BEGIN:DAYLIGHT
TZOFFSETFROM:+0100
TZOFFSETTO:+0200
TZNAME:CEST
DTSTART:20200329T010000
RRULE:FREQ=YEARLY;INTERVAL=1;BYDAY=-1SU;BYMONTH=3
END:DAYLIGHT
BEGIN:STANDARD
TZOFFSETFROM:+0200
TZOFFSETTO:+0100
TZNAME:CET
DTSTART:20201025T010000
RRULE:FREQ=YEARLY;INTERVAL=1;BYDAY=-1SU;BYMONTH=10
END:STANDARD
END:VTIMEZONE
BEGIN:VEVENT
DTSTAMP:20260423T152800Z
DTSTART:20270417T173000Z
DTEND:20270417T193000Z
LOCATION:Elbphilharmonie Kleiner Saal
SUMMARY:Alexandra Dovgan / Klavierabend
DESCRIPTION:Besetzung\nAlexandra Dovgan: Klavier\n\nProgramm\nLudwig van B
 eethoven\nSonate für Klavier B-Dur op. 106 »Hammerklaviersonate«\n– 
 Pause – \nFrédéric Chopin\nDeux Nocturnes op. 27\nScherzo Nr. 4 E-Dur
  op. 54\nSergej Rachmaninow\nSonate für Klavier Nr. 2 b-Moll op. 36
UID:event28019@Elbphilharmonie.de
URL:https://www.elbphilharmonie.de/de/programm/alexandra-dovgan-klavierabe
 nd/28019
END:VEVENT
END:VCALENDAR
