BEGIN:VCALENDAR
METHOD:PUBLISH
CALSCALE:GREGORIAN
PRODID:Elbphilharmonie
VERSION:2.0
BEGIN:VTIMEZONE
TZID:Europe/Berlin
BEGIN:DAYLIGHT
TZOFFSETFROM:+0100
TZOFFSETTO:+0200
TZNAME:CEST
DTSTART:20200329T010000
RRULE:FREQ=YEARLY;INTERVAL=1;BYDAY=-1SU;BYMONTH=3
END:DAYLIGHT
BEGIN:STANDARD
TZOFFSETFROM:+0200
TZOFFSETTO:+0100
TZNAME:CET
DTSTART:20201025T010000
RRULE:FREQ=YEARLY;INTERVAL=1;BYDAY=-1SU;BYMONTH=10
END:STANDARD
END:VTIMEZONE
BEGIN:VEVENT
DTSTAMP:20260424T123800Z
DTSTART:20261108T160000Z
DTEND:20261108T190000Z
LOCATION:Laeiszhalle Kleiner Saal
SUMMARY:Akkordeon-Orchester Hamburg-Eimsbüttel
DESCRIPTION:Besetzung\nAkkordeon-Orchester Hamburg-Eimsbüttel\nLeitung: S
 tefanie Perl-Kindel\nEnsemble des Akkordeon-Orchesters Hamburg-Eimsbüttel
 \nDirigent: Andreas Schulze\n\nProgramm\nGeorges Bizet\nFarandole / aus: L
 ’arlésienne / Suite Nr. 2\narr. Wolfgang Russ\nMusical Mix\narr. Hans-G
 ünter Kölz\nBest of Herbert Grönemeyer\nQueen\nBohemian Rhapsody / arr.
  Hans-Günter Kölz\narr. Hans-Günter Kölz\nBest of Kenny Loggins\nMetal
 lica\nNothing else matters / arr. Hans-Günter Kölz\nund andere
UID:event28873@Elbphilharmonie.de
URL:https://www.elbphilharmonie.de/de/programm/akkordeon-orchester-hamburg
 -eimsbuttel/28873
END:VEVENT
END:VCALENDAR
