BEGIN:VCALENDAR
METHOD:PUBLISH
CALSCALE:GREGORIAN
PRODID:Elbphilharmonie
VERSION:2.0
BEGIN:VTIMEZONE
TZID:Europe/Berlin
BEGIN:DAYLIGHT
TZOFFSETFROM:+0100
TZOFFSETTO:+0200
TZNAME:CEST
DTSTART:20200329T010000
RRULE:FREQ=YEARLY;INTERVAL=1;BYDAY=-1SU;BYMONTH=3
END:DAYLIGHT
BEGIN:STANDARD
TZOFFSETFROM:+0200
TZOFFSETTO:+0100
TZNAME:CET
DTSTART:20201025T010000
RRULE:FREQ=YEARLY;INTERVAL=1;BYDAY=-1SU;BYMONTH=10
END:STANDARD
END:VTIMEZONE
BEGIN:VEVENT
DTSTAMP:20260423T121100Z
DTSTART:20261031T190000Z
DTEND:20261031T210000Z
LOCATION:Elbphilharmonie Großer Saal
SUMMARY:Abeer Nehme & Ensemble
DESCRIPTION:Besetzung\nAbeer Nehme: vocals\n& Ensemble:\n\nProgramm\nDie P
 rimadonna der arabischen Welt singt in mehr als 25 Sprachen von orientalis
 chem Pop über sakrale Gesänge bis zu westlichen Sounds.
UID:event27972@Elbphilharmonie.de
URL:https://www.elbphilharmonie.de/de/programm/abeer-nehme-ensemble/27972
END:VEVENT
END:VCALENDAR
