BEGIN:VCALENDAR
METHOD:PUBLISH
CALSCALE:GREGORIAN
PRODID:Elbphilharmonie
VERSION:2.0
BEGIN:VTIMEZONE
TZID:Europe/Berlin
BEGIN:DAYLIGHT
TZOFFSETFROM:+0100
TZOFFSETTO:+0200
TZNAME:CEST
DTSTART:20200329T010000
RRULE:FREQ=YEARLY;INTERVAL=1;BYDAY=-1SU;BYMONTH=3
END:DAYLIGHT
BEGIN:STANDARD
TZOFFSETFROM:+0200
TZOFFSETTO:+0100
TZNAME:CET
DTSTART:20201025T010000
RRULE:FREQ=YEARLY;INTERVAL=1;BYDAY=-1SU;BYMONTH=10
END:STANDARD
END:VTIMEZONE
BEGIN:VEVENT
DTSTAMP:20260423T213900Z
DTSTART:20270620T180000Z
DTEND:20270620T201500Z
LOCATION:Elbphilharmonie Großer Saal
SUMMARY:200 Jahre Beethoven-Jubiläum
DESCRIPTION:Besetzung\nOrchester Wiener Akademie\nDirigent: Martin Haselb
 öck\n\nProgramm\nLudwig van Beethoven\nSinfonie Nr. 8 F-Dur op. 93\n– 
 Pause – \nLudwig van Beethoven\nSinfonie Nr. 9 d-Moll op. 125
UID:event28478@Elbphilharmonie.de
URL:https://www.elbphilharmonie.de/de/programm/200-jahre-beethoven-jubilau
 m/28478
END:VEVENT
END:VCALENDAR
