BEGIN:VCALENDAR
METHOD:PUBLISH
CALSCALE:GREGORIAN
PRODID:Elbphilharmonie
VERSION:2.0
BEGIN:VTIMEZONE
TZID:Europe/Berlin
BEGIN:DAYLIGHT
TZOFFSETFROM:+0100
TZOFFSETTO:+0200
TZNAME:CEST
DTSTART:20200329T010000
RRULE:FREQ=YEARLY;INTERVAL=1;BYDAY=-1SU;BYMONTH=3
END:DAYLIGHT
BEGIN:STANDARD
TZOFFSETFROM:+0200
TZOFFSETTO:+0100
TZNAME:CET
DTSTART:20201025T010000
RRULE:FREQ=YEARLY;INTERVAL=1;BYDAY=-1SU;BYMONTH=10
END:STANDARD
END:VTIMEZONE
BEGIN:VEVENT
DTSTAMP:20260424T003700Z
DTSTART:20270613T180000Z
DTEND:20270613T202000Z
LOCATION:Elbphilharmonie Großer Saal
SUMMARY:200 Jahre Beethoven-Jubiläum
DESCRIPTION:Besetzung\nOrchester Wiener Akademie\nDirigent: Martin Haselb
 öck\n\nProgramm\nLudwig van Beethoven\nSinfonie Nr. 1 C-Dur op. 21\nSinf
 onie Nr. 2 D-Dur op. 36\n– Pause – \nLudwig van Beethoven\nSinfonie N
 r. 3 Es-Dur op. 55 »Eroica«
UID:event28477@Elbphilharmonie.de
URL:https://www.elbphilharmonie.de/de/programm/200-jahre-beethoven-jubilau
 m/28477
END:VEVENT
END:VCALENDAR
